BEGIN:VCALENDAR
VERSION:2.0
PRODID:-//SynergyBIS - ECPv6.15.20//NONSGML v1.0//EN
CALSCALE:GREGORIAN
METHOD:PUBLISH
X-ORIGINAL-URL:https://www.synergybis.com
X-WR-CALDESC:Events for SynergyBIS
REFRESH-INTERVAL;VALUE=DURATION:PT1H
X-Robots-Tag:noindex
X-PUBLISHED-TTL:PT1H
BEGIN:VTIMEZONE
TZID:UTC
BEGIN:STANDARD
TZOFFSETFROM:+0000
TZOFFSETTO:+0000
TZNAME:UTC
DTSTART:20250101T000000
END:STANDARD
END:VTIMEZONE
BEGIN:VEVENT
DTSTART;VALUE=DATE:20260210
DTEND;VALUE=DATE:20260213
DTSTAMP:20260420T082636
CREATED:20251202T211122Z
LAST-MODIFIED:20251210T161836Z
UID:9352-1770681600-1770940799@www.synergybis.com
SUMMARY:AFCEA WEST 2026
DESCRIPTION:Sustaining Maritime Dominance: Warfighting Readiness for the Future Fight \nEngage in discussions\, network with peers and be a part of devising the needed solutions to enhance operational capabilities that overcome evolving threats. Gain knowledge and forge connections while discovering the latest platforms\, cutting-edge technologies and advanced capabilities crucial to supporting maritime operations.
URL:https://www.synergybis.com/event/afcea-west-2026/
LOCATION:San Diego Convention Center\, 111 Harbor Drive\, San Diego\, CA\, 92101\, United States
CATEGORIES:In-Person
ATTACH;FMTTYPE=image/jpeg:https://www.synergybis.com/wp-content/uploads/2025/11/Navy.jpg
ORGANIZER;CN="AFCEA International":MAILTO:events@afcea.org
END:VEVENT
BEGIN:VEVENT
DTSTART;VALUE=DATE:20260312
DTEND;VALUE=DATE:20260313
DTSTAMP:20260420T082636
CREATED:20251202T165747Z
LAST-MODIFIED:20251202T211750Z
UID:9342-1773273600-1773359999@www.synergybis.com
SUMMARY:AFCEA NOVA Naval IT Day 2026
DESCRIPTION:With the theme “Enabling the Naval Force: Data\, Digital\, and Decision Advantage\,” this premier gathering will spotlight how the Navy is leveraging cutting-edge technologies to strengthen operational readiness and decision-making. Senior leaders\, CIOs\, and industry experts will explore topics ranging from digital transformation and data integration to cybersecurity and mission support. The event offers keynote addresses\, panel discussions\, and networking opportunities\, making it a must-attend forum for military\, government\, and industry professionals driving innovation in naval IT.
URL:https://www.synergybis.com/event/afcea-nova-naval-it-day-2026/
LOCATION:Westfields Marriott Washington Dulles\, 14750 Conference Center Drive\, Chantilly\, 20151\, United States
CATEGORIES:In-Person
ATTACH;FMTTYPE=image/jpeg:https://www.synergybis.com/wp-content/uploads/2025/11/NavyShip.jpg
END:VEVENT
BEGIN:VEVENT
DTSTART;VALUE=DATE:20260401
DTEND;VALUE=DATE:20260403
DTSTAMP:20260420T082636
CREATED:20260305T014155Z
LAST-MODIFIED:20260305T014645Z
UID:9635-1775001600-1775174399@www.synergybis.com
SUMMARY:2026 DLA 4D Symposium
DESCRIPTION:Synergy will be attending the 2026 DLA 4D Symposium\, a two‑day event taking place April 1-2\, 2026\, focused on advancing digital capabilities across the Defense Logistics Agency and its partners. \nThis year’s symposium highlights key priorities shaping the future of defense sustainment\, including Digital Interoperability\, Data\, Analytics & AI\, Decision Advantage\, and enterprise-wide transformation. The event brings together leaders and practitioners from government\, industry\, and academia to strengthen collaboration and improve data-sharing across the defense ecosystem. \nOur team looks forward to engaging with mission partners\, learning about emerging technologies\, and supporting discussions that align with Synergy’s commitment to innovation and service within the federal landscape.
URL:https://www.synergybis.com/event/dla-4d-symposium/
LOCATION:Hilton Alexandria Mark Center\, 5000 Seminary Road\, Alexandria\, VA\, 22311\, United States
CATEGORIES:In-Person
ATTACH;FMTTYPE=image/jpeg:https://www.synergybis.com/wp-content/uploads/2026/03/Chess_Board.jpg
END:VEVENT
BEGIN:VEVENT
DTSTART;VALUE=DATE:20260427
DTEND;VALUE=DATE:20260428
DTSTAMP:20260420T082636
CREATED:20251202T171408Z
LAST-MODIFIED:20251202T212108Z
UID:9346-1777248000-1777334399@www.synergybis.com
SUMMARY:AFCEA NOVA Innovation IT Day Showcase
DESCRIPTION:This conference will highlight cutting-edge innovations in defense and government IT. The showcase is designed to bring together military leaders\, government officials\, and industry partners to explore emerging technologies\, foster collaboration\, and discuss how innovation can accelerate mission success. Attendees can expect keynote presentations\, technology demonstrations\, and networking opportunities with thought leaders shaping the future of IT in national security.
URL:https://www.synergybis.com/event/afcea-nova-innovation-it-day-showcase/
LOCATION:Carahsoft Technology\, 11493 Sunset Hills Road\, Reston\, VA\, 20190\, United States
CATEGORIES:In-Person
ATTACH;FMTTYPE=image/jpeg:https://www.synergybis.com/wp-content/uploads/2025/11/Military_Tech.jpg
END:VEVENT
BEGIN:VEVENT
DTSTART;VALUE=DATE:20260512
DTEND;VALUE=DATE:20260513
DTSTAMP:20260420T082636
CREATED:20251202T205648Z
LAST-MODIFIED:20251202T213142Z
UID:9350-1778544000-1778630399@www.synergybis.com
SUMMARY:AFCEA NOVA Space Force IT Day
DESCRIPTION:This annual conference will spotlight how the U.S. Space Force is leveraging advanced information technology to strengthen national defense and space operations. The event will feature senior Space Force leaders\, CIOs\, and industry experts discussing topics such as digital transformation\, cybersecurity\, data-driven decision-making\, and mission innovation. With keynote addresses\, panel sessions\, and networking opportunities\, Space Force IT Day provides a premier forum for collaboration between military\, government\, and industry professionals working at the intersection of space and technology.
URL:https://www.synergybis.com/event/afcea-nova-space-force-it-day/
LOCATION:Westfields Marriott Washington Dulles\, 14750 Conference Center Drive\, Chantilly\, 20151\, United States
CATEGORIES:In-Person
ATTACH;FMTTYPE=image/jpeg:https://www.synergybis.com/wp-content/uploads/2025/11/SpaceForce.jpg
END:VEVENT
END:VCALENDAR