BEGIN:VCALENDAR
VERSION:2.0
PRODID:-//SynergyBIS - ECPv6.15.20//NONSGML v1.0//EN
CALSCALE:GREGORIAN
METHOD:PUBLISH
X-WR-CALNAME:SynergyBIS
X-ORIGINAL-URL:https://www.synergybis.com
X-WR-CALDESC:Events for SynergyBIS
REFRESH-INTERVAL;VALUE=DURATION:PT1H
X-Robots-Tag:noindex
X-PUBLISHED-TTL:PT1H
BEGIN:VTIMEZONE
TZID:UTC
BEGIN:STANDARD
TZOFFSETFROM:+0000
TZOFFSETTO:+0000
TZNAME:UTC
DTSTART:20250101T000000
END:STANDARD
END:VTIMEZONE
BEGIN:VEVENT
DTSTART;VALUE=DATE:20260115
DTEND;VALUE=DATE:20260116
DTSTAMP:20260424T121728
CREATED:20251202T163716Z
LAST-MODIFIED:20251202T211552Z
UID:9340-1768435200-1768521599@www.synergybis.com
SUMMARY:AFCEA NOVA Army IT Day 2026
DESCRIPTION:This year’s theme\, “Dominating Technology to Increase Warfighter Lethality\,” brings together senior Army leaders\, CIOs\, and technology experts to discuss the future of information technology in defense. Attendees will hear from keynote speakers including HON Mike Obadal\, Under Secretary of the U.S. Army\, and Mr. Leo Garciga\, Chief Information Officer of the U.S. Army\, alongside panels on AI\, data systems\, logistics\, and joint operations.
URL:https://www.synergybis.com/event/afcea-nova-army-it-day-2026/
LOCATION:Hilton McLean Tysons Corner\, 7920 Jones Branch Drive\, McLean\, VA\, 22102\, United States
CATEGORIES:In-Person
ATTACH;FMTTYPE=image/jpeg:https://www.synergybis.com/wp-content/uploads/2025/11/Army.jpg
END:VEVENT
END:VCALENDAR